BEGIN:VCALENDAR
VERSION:2.0
PRODID:-//ChamberMaster//Event Calendar 2.0//EN
METHOD:PUBLISH
X-PUBLISHED-TTL:P3D
REFRESH-INTERVAL:P3D
CALSCALE:GREGORIAN
BEGIN:VEVENT
DTSTART:20241108T003000Z
DTEND:20241108T013000Z
X-MICROSOFT-CDO-ALLDAYEVENT:FALSE
SUMMARY:Author Event at Kirkwood Public Library: Exploring the Legacy of the 1904 World's Fair Through Fiction
DESCRIPTION:Free and Open to All
X-ALT-DESC;FMTTYPE=text/html:Free and Open to All
LOCATION:Kirkwood Public Library 140 East Jefferson Kirkwood MO 63122
UID:e.3624.1963
SEQUENCE:3
DTSTAMP:20260425T175023Z
URL:https://business.kirkwooddesperes.com/events/details/author-event-at-kirkwood-public-library-exploring-the-legacy-of-the-1904-world-s-fair-through-fiction-1963
END:VEVENT

END:VCALENDAR
