BEGIN:VCALENDAR
VERSION:2.0
PRODID:-//ChamberMaster//Event Calendar 2.0//EN
METHOD:PUBLISH
X-PUBLISHED-TTL:P3D
REFRESH-INTERVAL:P3D
CALSCALE:GREGORIAN
BEGIN:VEVENT
DTSTART:20250919T230000Z
DTEND:20250920T010000Z
X-MICROSOFT-CDO-ALLDAYEVENT:FALSE
SUMMARY:BODY20 Des Peres 1st Anniversary Celebration!
DESCRIPTION:BODY20 Des Peres is turning 1 in September!! \n\n\n\nWe're excited to celebrate this milestone!\n\nJoin us for our first anniversary party drop in for cake\, bubblies\, and good fellowship.
X-ALT-DESC;FMTTYPE=text/html:<div style="text-align:center"><span style="color:#000000"><span style="font-family:-apple-system\,blinkmacsystemfont\,segoe ui\,roboto\,helvetica\,arial\,sans-serif\; font-size:14px">BODY20 Des Peres is turning 1 in September!!&nbsp\;</span><br />\n<br />\n<span style="font-family:-apple-system\,blinkmacsystemfont\,segoe ui\,roboto\,helvetica\,arial\,sans-serif\; font-size:14px">We&rsquo\;re excited to celebrate this milestone!</span></span><br />\n<span style="color:#000000"><span style="font-family:-apple-system\,blinkmacsystemfont\,segoe ui\,roboto\,helvetica\,arial\,sans-serif\; font-size:14px">Join us for our first anniversary party&mdash\;drop in for cake\, bubblies\, and good fellowship.</span></span></div>\n
LOCATION:12115 Manchester Rd. Des Peres\, MO 63131
UID:e.3624.2383
SEQUENCE:3
DTSTAMP:20260422T230044Z
URL:https://business.kirkwooddesperes.com/events/details/body20-des-peres-1st-anniversary-celebration-2383
END:VEVENT

END:VCALENDAR
