BEGIN:VCALENDAR
VERSION:2.0
PRODID:-//ChamberMaster//Event Calendar 2.0//EN
METHOD:PUBLISH
X-PUBLISHED-TTL:P3D
REFRESH-INTERVAL:P3D
CALSCALE:GREGORIAN
BEGIN:VEVENT
DTSTART:20250426T170000Z
DTEND:20250426T200000Z
X-MICROSOFT-CDO-ALLDAYEVENT:FALSE
SUMMARY:BODY20 OPEN HOUSE
DESCRIPTION:Still searching for a fitness routine that "suits" you? Stop by our Open House on April 26 from noon - 3 pm to learn more about our innovative fitness program where we combine EMS technology with personalized one-on-one training. Our 20-minute sessions are equivalent to hours in the gym! Meet our friendly staff\, explore our studio\, and see what sets BODY20 apart.
X-ALT-DESC;FMTTYPE=text/html:Still searching for a fitness routine that &quot\;suits&quot\; you? Stop by our Open House on April 26 from noon - 3 pm to learn more about our innovative fitness program where we combine EMS technology with personalized one-on-one training. Our 20-minute sessions are equivalent to hours in the gym! Meet our friendly staff\, explore our studio\, and see what sets BODY20 apart.
LOCATION:12115 Manchester Rd. Des Peres\, MO 63131
UID:e.3624.2336
SEQUENCE:3
DTSTAMP:20260422T160125Z
URL:https://business.kirkwooddesperes.com/events/details/body20-open-house-2336
END:VEVENT

END:VCALENDAR
