BEGIN:VCALENDAR
VERSION:2.0
PRODID:-//ChamberMaster//Event Calendar 2.0//EN
METHOD:PUBLISH
X-PUBLISHED-TTL:P3D
REFRESH-INTERVAL:P3D
CALSCALE:GREGORIAN
BEGIN:VEVENT
DTSTART:20250531T170000Z
DTEND:20250601T010000Z
X-MICROSOFT-CDO-ALLDAYEVENT:FALSE
SUMMARY:Brother Beer and Bourbon House 5 Year Celebration!
DESCRIPTION:Cheers to Five Years! Can you believe it? Neither can we\, and we are so pumped to celebrate with you! -We'll have complementary tastings happening between 12-8 -Beer glass fill special -Rocks glass fill special -Mega pint fill special -10% OFF 2+ whiskey bottles -10% off 12+ single cans/bottles of beer -$10 Beer flights -$12 Whiskey flights -Allocated whiskey release and raffle -More fun surprises to come!
X-ALT-DESC;FMTTYPE=text/html:Cheers to Five Years! Can you believe it? Neither can we\, and we are so pumped to celebrate with you! -We&#39\;ll have complementary tastings happening between 12-8 -Beer glass fill special -Rocks glass fill special -Mega pint fill special -10% OFF 2+ whiskey bottles -10% off 12+ single cans/bottles of beer -$10 Beer flights -$12 Whiskey flights -Allocated whiskey release and raffle -More fun surprises to come!
LOCATION:3880 S. Lindbergh Blvd. Suite 300 Sunset Hills\, MO 63127
UID:e.3624.2354
SEQUENCE:3
DTSTAMP:20260422T180110Z
URL:https://business.kirkwooddesperes.com/events/details/brother-beer-and-bourbon-house-5-year-celebration-2354
END:VEVENT

END:VCALENDAR
