BEGIN:VCALENDAR
VERSION:2.0
PRODID:-//ChamberMaster//Event Calendar 2.0//EN
METHOD:PUBLISH
X-PUBLISHED-TTL:P3D
REFRESH-INTERVAL:P3D
CALSCALE:GREGORIAN
BEGIN:VEVENT
DTSTART:20260501T123000Z
DTEND:20260501T140000Z
X-MICROSOFT-CDO-ALLDAYEVENT:FALSE
SUMMARY:CANCELLED - CHAMBER First Friday Coffee May 2026
DESCRIPTION:Photographs may be taken and used on the Kirkwood/Des Peres Area Chamber of Commerce social media accounts or website.  Registering for the function grants permission to use these images.
X-ALT-DESC;FMTTYPE=text/html:<p style="white-space-collapse: preserve\; margin: 0px\; padding: 0px\; color: rgb(130\, 84\, 33)\; font-family: Arial\, Verdana\, Helvetica\, sans-serif\; font-size: 14px\;"><span style="color: rgb(0\, 0\, 0)\; font-family: arial\; font-size: 11px\;">Photographs may be taken and used on the Kirkwood/Des Peres Area Chamber of Commerce social media accounts or website.&nbsp\; Registering for the function grants permission to use these images.</span></p>\n
LOCATION:
UID:e.3624.2910
SEQUENCE:3
DTSTAMP:20260422T232026Z
URL:https://business.kirkwooddesperes.com/events/details/cancelled-chamber-first-friday-coffee-may-2026-2910
END:VEVENT

END:VCALENDAR
