BEGIN:VCALENDAR
VERSION:2.0
PRODID:-//ChamberMaster//Event Calendar 2.0//EN
METHOD:PUBLISH
X-PUBLISHED-TTL:P3D
REFRESH-INTERVAL:P3D
CALSCALE:GREGORIAN
BEGIN:VEVENT
DTSTART:20211001T123000Z
DTEND:20211001T140000Z
X-MICROSOFT-CDO-ALLDAYEVENT:FALSE
SUMMARY:CHAMBER First Friday Coffee
DESCRIPTION:Join fellow early rising Chamber members and guests to network\, connect and build relationships before work!\n\n\n\nSponsored by:  Thrivent Financial - Jonathan Drew
X-ALT-DESC;FMTTYPE=text/html:Join fellow early rising Chamber members and guests to network\, connect and build relationships before work!<br />\n<br />\n<strong>Sponsored by:&nbsp\;&nbsp\;Thrivent Financial - Jonathan Drew</strong>
LOCATION:1515 Des Peres Road\, Suite 100 St. Louis\, MO 63131
UID:e.3624.466
SEQUENCE:3
DTSTAMP:20260419T230408Z
URL:https://business.kirkwooddesperes.com/events/details/chamber-first-friday-coffee-466
END:VEVENT

END:VCALENDAR
