BEGIN:VCALENDAR
VERSION:2.0
PRODID:-//ChamberMaster//Event Calendar 2.0//EN
METHOD:PUBLISH
X-PUBLISHED-TTL:P3D
REFRESH-INTERVAL:P3D
CALSCALE:GREGORIAN
BEGIN:VEVENT
DTSTART:20250502T163000Z
DTEND:20250502T183000Z
X-MICROSOFT-CDO-ALLDAYEVENT:FALSE
SUMMARY:CHAMBER Member Appreciation Picnic
DESCRIPTION:Join us for a special day of fun\, food\, and fellowship at our\n\nMember Appreciation Picnic!\n\n\n\nYou're invited to attend the Member Appreciation Picnic on Friday\, May 2nd from 11:30 am - 1:30 pm at Kirkwood Park in the Lions Pavilion!  \n\nBurgers\, dogs\, fruit salad\, and other classic picnic sides along with iced tea\, lemonade\, and water are on the menu.  \n\nJoin us for food and fun while we celebrate YOU - the Members who make us THE CHAMBER THAT HAS IT ALL!\n\n\n\nPlease register so that we have an accurate count for food items. There is no cost to attend!
X-ALT-DESC;FMTTYPE=text/html:<p data-pm-slice="1 1 []" style="text-align: center\;"><span style="font-size:48px\;"><span style="color:#0066cc\;"><strong><span style="font-family:arial\;">Join us for a special day of fun\, food\, and fellowship at our<br />\nMember Appreciation Picnic!</span></strong></span></span></p>\n\n<p data-pm-slice="1 1 []"><br />\n<span style="font-size:20px\;"><span style="color:#000000\;"><span style="font-family: Roboto\, Noto\, sans-serif\; white-space-collapse: preserve\;">You&#39\;re invited to attend the Member Appreciation Picnic on Friday\, May 2nd from 11:30 am - 1:30 pm at Kirkwood Park in the Lions Pavilion!<span style="font-family: Roboto\, Noto\, sans-serif\; white-space-collapse: preserve\;"> </span><span style="font-family: Roboto\, Noto\, sans-serif\; white-space-collapse: preserve\;"> </span><br />\nBurgers\, dogs\, fruit salad\, and other classic picnic sides along with iced tea\, lemonade\, and water are on the menu.<span style="font-family: Roboto\, Noto\, sans-serif\; white-space-collapse: preserve\;"> </span><span style="font-family: Roboto\, Noto\, sans-serif\; white-space-collapse: preserve\;"> </span><br />\nJoin us for food and fun while we celebrate YOU - the Members who make us </span></span><span style="color:#cc3300\;"><span style="font-family: Roboto\, Noto\, sans-serif\; white-space-collapse: preserve\;"><strong>THE CHAMBER THAT HAS IT ALL!</strong></span></span><br />\n<br />\n<span style="font-family:arial\;"><span style="font-size:26px\;"><span style="color:#000000\;"><strong>Please register so that we have an accurate count for food items. There is no cost to attend!</strong></span></span></span></span></p>\n
LOCATION:Kirkwood Park: Lions Pavilion
UID:e.3624.2298
SEQUENCE:3
DTSTAMP:20260422T160452Z
URL:https://business.kirkwooddesperes.com/events/details/chamber-member-appreciation-picnic-2298
END:VEVENT

END:VCALENDAR
