BEGIN:VCALENDAR
VERSION:2.0
PRODID:-//ChamberMaster//Event Calendar 2.0//EN
METHOD:PUBLISH
X-PUBLISHED-TTL:P3D
REFRESH-INTERVAL:P3D
CALSCALE:GREGORIAN
BEGIN:VEVENT
DTSTART:20250812T160000Z
DTEND:20250812T180000Z
X-MICROSOFT-CDO-ALLDAYEVENT:FALSE
SUMMARY:CHAMBER Membership Luncheon August 2025
DESCRIPTION:Join your fellow Chamber members and guests at the General Membership Luncheon.  \n\n\n\nNetworking starts at 11:00 am\, the program begins at 11:45 and we are finished by 1:00 pm.\n\n\n\nThank you to our Luncheon Sponsor:\n\n\n\n\n\n\n\n\n\nMenu:  \n\n\n\n\n\nVisitor Policy:\n\nOur Visitor Policy is that you are welcome to attend up to two (2) Chamber events total (any combination of events) as a visitor. At that time if you would like to continue attending Chamber events you will need to apply for membership. \n\n\n\nTo learn more about our membership\, CLICK HERE
X-ALT-DESC;FMTTYPE=text/html:<p><span style="font-size:16px\;">Join your fellow Chamber members and guests at the General Membership Luncheon<em>.</em>&nbsp\;&nbsp\;<br />\n<br />\nNetworking starts at 11:00 am\, the program begins at 11:45 and we are finished by 1:00 pm.</span><br />\n<br />\n<strong><span style="font-size:16px\;">Thank you to our Luncheon Sponsor:</span></strong><br />\n<br />\n<br />\n<br />\n<br />\n<span style="font-size:16px\;"><span style="font-family:arial\;"><strong>Menu:&nbsp\;</strong>&nbsp\;</span></span><br />\n<br />\n<br />\n<span style="font-size:16px\;"><span style="font-family:arial\;"><span style="box-sizing: border-box\; color: rgb(0\, 0\, 0)\;"><span style="box-sizing: border-box\;"><span style="box-sizing: border-box\; font-weight: bolder\;">Visitor Policy:</span></span><br style="box-sizing: border-box\;" />\nOur Visitor Policy is that you are welcome to attend up to two (2) Chamber events total (any combination of events) as a visitor. At that time if you would like to continue attending Chamber events you will need to apply for membership.&nbsp\;</span><br style="box-sizing: border-box\; font-size: 16px\; color: rgb(0\, 0\, 0)\; font-family: Arial\, Verdana\, Helvetica\, sans-serif\;" />\n<br style="box-sizing: border-box\; font-size: 16px\; color: rgb(0\, 0\, 0)\; font-family: Arial\, Verdana\, Helvetica\, sans-serif\;" />\n<span style="box-sizing: border-box\; color: rgb(0\, 0\, 0)\;">To learn more about our membership\,&nbsp\;</span><a href="https://business.kirkwooddesperes.com/member/newmemberapp" style="color: rgb(6\, 85\, 150)\; box-sizing: border-box\; text-decoration-line: none\; overflow-wrap: break-word\; font-size: 16px\; font-family: Arial\, Verdana\, Helvetica\, sans-serif\;" target="_blank">CLICK HERE</a></span></span></p>\n
LOCATION:
UID:e.3624.2349
SEQUENCE:3
DTSTAMP:20260422T225039Z
URL:https://business.kirkwooddesperes.com/events/details/chamber-membership-luncheon-august-2025-2349
END:VEVENT

END:VCALENDAR
