BEGIN:VCALENDAR
VERSION:2.0
PRODID:-//ChamberMaster//Event Calendar 2.0//EN
METHOD:PUBLISH
X-PUBLISHED-TTL:P3D
REFRESH-INTERVAL:P3D
CALSCALE:GREGORIAN
BEGIN:VEVENT
DTSTART;VALUE=DATE:20251127
DTEND;VALUE=DATE:20251128
TRANSP:TRANSPARENT
X-MICROSOFT-CDO-ALLDAYEVENT:TRUE
SUMMARY:CHAMBER *NO* Business After Hours
DESCRIPTION:No Business After Hours this month! Happy Thanksgiving!
X-ALT-DESC;FMTTYPE=text/html:No Business After Hours this month! Happy Thanksgiving!
LOCATION:
UID:e.3624.2484
SEQUENCE:3
DTSTAMP:20260423T023832Z
URL:https://business.kirkwooddesperes.com/events/details/chamber-no-business-after-hours-2484
END:VEVENT

END:VCALENDAR
