BEGIN:VCALENDAR
VERSION:2.0
PRODID:-//ChamberMaster//Event Calendar 2.0//EN
METHOD:PUBLISH
X-PUBLISHED-TTL:P3D
REFRESH-INTERVAL:P3D
CALSCALE:GREGORIAN
BEGIN:VEVENT
DTSTART:20251119T173000Z
DTEND:20251119T183000Z
X-MICROSOFT-CDO-ALLDAYEVENT:FALSE
SUMMARY:CHAMBER Ribbon Cutting - Vista Dermatology
DESCRIPTION:Come celebrate with Vista Dermatology at their Ribbon Cutting Ceremony
X-ALT-DESC;FMTTYPE=text/html:Come celebrate with&nbsp\;Vista Dermatology at their Ribbon Cutting Ceremony&nbsp\;
LOCATION:
UID:e.3624.2382
SEQUENCE:3
DTSTAMP:20260423T040320Z
URL:https://business.kirkwooddesperes.com/events/details/chamber-ribbon-cutting-vista-dermatology-2382
END:VEVENT

END:VCALENDAR
