BEGIN:VCALENDAR
VERSION:2.0
PRODID:-//ChamberMaster//Event Calendar 2.0//EN
METHOD:PUBLISH
X-PUBLISHED-TTL:P3D
REFRESH-INTERVAL:P3D
CALSCALE:GREGORIAN
BEGIN:VEVENT
DTSTART:20260519T210000Z
DTEND:20260519T223000Z
X-MICROSOFT-CDO-ALLDAYEVENT:FALSE
SUMMARY:CHAMBER Young Professionals Network
DESCRIPTION:Join us for our Young Professionals Network event! More program details to come.\n\n\n\nEvent Agenda\n\n4:00   4:30 PM | Networking\n\n4:30   4:45 PM | Introductions\n\n4:45   5:30 PM | Speaker & Program\n\n\n\nAbout the Young Professionals Network (YPN)\n\nThe Young Professionals Network is designed for professionals ages 39 and under. This program brings together professionals who are early to mid-career\, creating a space to connect\, learn\, and grow alongside others navigating similar experiences.\n\n\n\nEach monthly event creates an approachable space to meet others\, expand your network\, and walk away with something you can use right away. Events are typically held on the last Tuesday of each month from 4:00 5:30 PM at Enterprise Bank & Trust in Kirkwood. You can learn more about the group here. \n\n\n\nYPN continues to grow through the people who are part of it. If someone comes to mind who would enjoy this group\, invite them to join you at an upcoming event.
X-ALT-DESC;FMTTYPE=text/html:<br />\n<strong>Join us for our Young Professionals Network event! More program details to come.</strong><br />\n<br />\n<strong>Event Agenda</strong><br />\n4:00 &ndash\; 4:30 PM | Networking<br />\n4:30 &ndash\; 4:45 PM | Introductions<br />\n4:45 &ndash\; 5:30 PM | Speaker &amp\; Program<br />\n<br />\n<strong>About the Young Professionals Network (YPN)</strong><br />\nThe Young Professionals Network is designed for professionals ages 39 and under. This program brings together professionals who are early to mid-career\, creating a space to connect\, learn\, and grow alongside others navigating similar experiences.<br />\n<br />\nEach monthly event creates an approachable space to meet others\, expand your network\, and walk away with something you can use right away. Events are typically held on the last Tuesday of each month from 4:00&ndash\;5:30 PM at Enterprise Bank &amp\; Trust in Kirkwood. You can learn more about the group <a href="https://www.kirkwooddesperes.com/young-professionals-network/">here</a>.&nbsp\;<br />\n<br />\nYPN continues to grow through the people who are part of it. If someone comes to mind who would enjoy this group\, invite them to join you at an upcoming event.
LOCATION:
UID:e.3624.3195
SEQUENCE:3
DTSTAMP:20260424T083324Z
URL:https://business.kirkwooddesperes.com/events/details/chamber-young-professionals-network-3195
END:VEVENT

END:VCALENDAR
