BEGIN:VCALENDAR
VERSION:2.0
PRODID:-//ChamberMaster//Event Calendar 2.0//EN
METHOD:PUBLISH
X-PUBLISHED-TTL:P3D
REFRESH-INTERVAL:P3D
CALSCALE:GREGORIAN
BEGIN:VEVENT
DTSTART:20260224T163000Z
DTEND:20260224T180000Z
X-MICROSOFT-CDO-ALLDAYEVENT:FALSE
SUMMARY:Coffee Concert Series: Dawn Turlington at the KPAC
DESCRIPTION:The KPAC Coffee Concert Series is kicking off the year with beloved St. Louis musician Dawn Turlington with her show\, "Singin' Sweethearts of the '70s."\n\nKnown for her incredible vocal range and versatility\, Dawn is a true musical chameleon. This morning\, she'll be channeling the most beloved female voices of the 1970s bringing you the nostalgic\, velvety tones of Karen Carpenter\, the folk-rock energy of Linda Ronstadt\, and classics from Anne Murray\, Carole King\, and more.\n\nCome grab a seat at the Kirkwood Performing Arts Center where a warm cup of coffee and Dawn's electrifying stage presence will really wake you up.
X-ALT-DESC;FMTTYPE=text/html:<p>The KPAC Coffee Concert Series is kicking off the year with beloved St. Louis musician Dawn Turlington with her show\, &ldquo\;Singin&rsquo\; Sweethearts of the &#39\;70s.&rdquo\;</p>\n\n<p>Known for her incredible vocal range and versatility\, Dawn is a true musical chameleon. This morning\, she&rsquo\;ll be channeling the most beloved female voices of the 1970s&mdash\;bringing you the nostalgic\, velvety tones of Karen Carpenter\, the folk-rock energy of Linda Ronstadt\, and classics from Anne Murray\, Carole King\, and more.</p>\n\n<p>Come grab a seat at the Kirkwood Performing Arts Center where a warm cup of coffee and Dawn&rsquo\;s electrifying stage presence will really wake you up.</p>\n
LOCATION:Kirkwood Performing Arts Center 210 E Monroe Ave\, Kirkwood\, MO\, 63122 Strauss Theatre
UID:e.3624.2767
SEQUENCE:3
DTSTAMP:20260423T090727Z
URL:https://business.kirkwooddesperes.com/events/details/coffee-concert-series-dawn-turlington-at-the-kpac-2767
END:VEVENT

END:VCALENDAR
