BEGIN:VCALENDAR
VERSION:2.0
PRODID:-//ChamberMaster//Event Calendar 2.0//EN
METHOD:PUBLISH
X-PUBLISHED-TTL:P3D
REFRESH-INTERVAL:P3D
CALSCALE:GREGORIAN
BEGIN:VEVENT
DTSTART:20251112T170000Z
DTEND:20251112T190000Z
X-MICROSOFT-CDO-ALLDAYEVENT:FALSE
SUMMARY:Drop The Ball STL Ribbon Cutting & Open House
DESCRIPTION:Please join Keri Lemmons with Drop the Ball STL for the ribbon cutting at our new office\, The Drop Collective. Open House from 11:00am -1:00pm\, with ribbon cutting at 11:30am. Champagne and lite refreshments will be served. This is a wonderful opportunity to check out St. Louis's first rest-centered studio with the first Rest Pods!
X-ALT-DESC;FMTTYPE=text/html:Please join Keri Lemmons with Drop the Ball STL for the ribbon cutting at our new office\, The Drop Collective. Open House from 11:00am -1:00pm\, with ribbon cutting at 11:30am. Champagne and lite refreshments will be served. This is a wonderful opportunity to check out St. Louis&#39\;s first rest-centered studio with the first Rest Pods!&nbsp\;
LOCATION:457 Sovereign Court\, Ballwin\, MO 63011
UID:e.3624.2476
SEQUENCE:3
DTSTAMP:20260423T024148Z
URL:https://business.kirkwooddesperes.com/events/details/drop-the-ball-stl-ribbon-cutting-open-house-2476
END:VEVENT

END:VCALENDAR
