BEGIN:VCALENDAR
VERSION:2.0
PRODID:-//ChamberMaster//Event Calendar 2.0//EN
METHOD:PUBLISH
X-PUBLISHED-TTL:P3D
REFRESH-INTERVAL:P3D
CALSCALE:GREGORIAN
BEGIN:VEVENT
DTSTART:20250425T230000Z
DTEND:20250426T030000Z
X-MICROSOFT-CDO-ALLDAYEVENT:FALSE
SUMMARY:"For the Ages" Trivia Night to Benefit Kirkwood Historical Society
DESCRIPTION:Captains\, time to buy your tables at Eventbrite\n\n\n\nhttps://tinyurl.com/58hz35pw \n\nfor the second "For the Ages" Trivia Night.  Ten rounds of fun questions.\n\n \n\nRaffles!  Games!  Prizes!\n\nBring your favorite treats
X-ALT-DESC;FMTTYPE=text/html:<h1 style="text-align:center"><span style="font-family:tahoma"><span style="font-size:14px"><strong><span style="color:#FF0000"><span style="font-size:24px">Captains\, time to buy your tables at Eventbrite</span></span></strong></span></span><br />\n<br />\n<a href="https://tinyurl.com/58hz35pw"><span style="color:rgb(0\, 0\, 0)">https://tinyurl.com/58hz35pw</span></a><span style="font-family:tahoma"><span style="font-size:14px"><strong><span style="color:#FF0000"> </span></strong></span></span></h1>\n\n<p style="text-align:center"><span style="font-family:tahoma"><span style="font-size:14px"><strong><span style="color:#FF0000">for the second &quot\;For the Ages&quot\; Trivia Night. &nbsp\;Ten rounds of fun questions.</span></strong></span></span></p>\n\n<p>&nbsp\;</p>\n\n<p style="text-align:center"><span style="font-family:tahoma"><strong>Raffles! &nbsp\;Games! &nbsp\;Prizes!</strong></span></p>\n\n<p style="text-align:center"><span style="color:#FF0000"><strong><span style="font-family:tahoma">Bring your favorite treats</span></strong></span></p>\n\n<h4>&nbsp\;</h4>\n
LOCATION:Grace Episcopal Church 514 East Argonne Drive
UID:e.3624.2292
SEQUENCE:3
DTSTAMP:20260422T141906Z
URL:https://business.kirkwooddesperes.com/events/details/for-the-ages-trivia-night-to-benefit-kirkwood-historical-society-2292
END:VEVENT

END:VCALENDAR
