BEGIN:VCALENDAR
VERSION:2.0
PRODID:-//ChamberMaster//Event Calendar 2.0//EN
METHOD:PUBLISH
X-PUBLISHED-TTL:P3D
REFRESH-INTERVAL:P3D
CALSCALE:GREGORIAN
BEGIN:VEVENT
DTSTART:20260221T150000Z
DTEND:20260221T180000Z
X-MICROSOFT-CDO-ALLDAYEVENT:FALSE
SUMMARY:CHAMBER Healthy Resolutions Health Fair
DESCRIPTION:Kick off 2026 feeling your best at this FREE event!\n\n\n\nJoin us for the Healthy Resolutions Health Fair on Saturday\, February 21\, from 9 AM to Noon at The Lodge Des Peres.\n\nGet ready for a morning packed with energy\, excitement\, and wellness inspiration all FREE and open to everyone!\n\nDiscover three action-packed zones:\n\n\n	\n	Family Zone   Fun\, fitness\, and family-friendly resources.\n	\n	\n	General Zone   Local experts\, health screenings\, and vendors galore.\n	\n	\n	Senior Zone   Information and screenings focused on healthy aging.\n	\n\n\nEnjoy free health screenings\, expert advice from local professionals\, healthy snacks and hydration stations\, and giveaways throughout the event.\n\nWhether you're setting new health goals or simply want to connect with local wellness resources\, this is the perfect way to start your year strong.\n\n \n\nWhile you're there\, take advantage of The Lodge's Wet-N-Sweat Punch Card Flash Sale!\n\nThe Wet-N-Sweat card includes 20 visits and gives you the flexibility to attend any class listed on the group exercise schedule.\n\nPurchase a card at the Health Fair & get 2 extra punches FREE!\n\nLet's make this your healthiest year yet!\n\nPowered by the Kirkwood   Des Peres Area Chamber of Commerce.
X-ALT-DESC;FMTTYPE=text/html:<p><span style="font-size:24px\;"><span style="color:#0066cc\;"><span style="font-family:arial\;"><strong data-end="134" data-start="98">Kick off 2026 feeling your best at this FREE event!</strong></span></span></span><br data-end="137" data-start="134" />\n<br />\n<span style="font-size:16px\;">Join us for the <strong data-end="188" data-start="153">Healthy Resolutions Health Fair</strong> on <strong data-end="235" data-start="192">Saturday</strong></span><strong data-end="235" data-start="192">\, </strong><span style="font-size:16px\;"><strong>February 21<strong data-end="235" data-start="192">\,</strong></strong><strong data-end="235" data-start="192"> fr</strong><strong data-end="235" data-start="192">om 9 AM to Noon</strong> at <strong data-end="262" data-start="239">The Lodge Des Peres</strong>.</span></p>\n\n<p data-end="388" data-start="267"><span style="font-size:16px\;">Get ready for a morning packed with <strong data-end="351" data-start="303">energy\, excitement\, and wellness inspiration</strong>&mdash\;all <strong data-end="364" data-start="356">FREE</strong> and open to everyone!</span></p>\n\n<p data-end="427" data-start="390"><span style="font-size:16px\;">Discover three action-packed zones:</span></p>\n\n<ul data-end="638" data-start="428">\n	<li data-end="494" data-start="428">\n	<p data-end="494" data-start="430"><span style="font-size:16px\;"><span style="color:#0066cc\;"><strong data-end="445" data-start="430">Family Zone</strong></span> &ndash\; Fun\, fitness\, and family-friendly resources.</span></p>\n	</li>\n	<li data-end="571" data-start="495">\n	<p data-end="571" data-start="497"><span style="font-size:16px\;"><span style="color:#0066cc\;"><strong data-end="513" data-start="497">General Zone</strong></span> &ndash\; Local experts\, health screenings\, and vendors galore.</span></p>\n	</li>\n	<li data-end="638" data-start="572">\n	<p data-end="638" data-start="574"><span style="font-size:16px\;"><span style="color:#0066cc\;"><strong data-end="589" data-start="574">Senior Zone</strong></span> &ndash\; Information and screenings focused on healthy aging.</span></p>\n	</li>\n</ul>\n\n<p data-end="787" data-start="640"><span style="font-size:16px\;">Enjoy <strong data-end="847" data-start="821">free health screenings</strong>\, <strong data-end="891" data-start="849">expert advice from local professionals</strong>\, <strong data-end="934" data-start="893">healthy snacks and hydration stations</strong>\, and <strong data-end="974" data-start="940">giveaways throughout the event</strong>.</span></p>\n\n<p data-end="1128" data-start="979"><span style="font-size:16px\;">Whether you&rsquo\;re setting new health goals or simply want to connect with local wellness resources\, this is the perfect way to start your year strong.</span><br />\n&nbsp\;</p>\n\n<p class="cvGsUA direction-ltr align-start para-style-body" style="color: rgba(0\,0\,0\,var(--O42jJQ\,1))\; caret-color: rgb(0\, 0\, 0)\; --8sD0Kg: none\; font-family: YAFdJjbTu24_1\, _fb_\, auto\; --cyV3ZQ: 21.3333px\; --gJPlXQ: 1.4\; letter-spacing: 0.042em\; --s8NbEA: p\; line-height: 29px\;"><span style="font-size:16px\;"><span style="font-family:arial\;"><span class="a_GcMg font-feature-liga-off font-feature-clig-off font-feature-calt-off text-decoration-none text-strikethrough-none" style="--Ys-XuQ: none\; font-kerning: none\;">While you&rsquo\;re there\, take advantage of The Lodge&rsquo\;s Wet-N-Sweat Punch Card Flash Sale!<br />\nThe Wet-N-Sweat card includes 20 visits and gives you the flexibility to attend any class listed on the group exercise schedule.</span></span></span></p>\n\n<p class="cvGsUA direction-ltr align-start para-style-body" style="color: rgba(0\,0\,0\,var(--O42jJQ\,1))\; caret-color: rgb(0\, 0\, 0)\; --8sD0Kg: none\; font-family: YAFdJjbTu24_1\, _fb_\, auto\; --cyV3ZQ: 21.3333px\; --gJPlXQ: 1.4\; letter-spacing: 0.042em\; --s8NbEA: p\; line-height: 29px\;"><span style="font-size:16px\;"><span style="font-family:arial\;"><span class="a_GcMg font-feature-liga-off font-feature-clig-off font-feature-calt-off text-decoration-none text-strikethrough-none" style="--Ys-XuQ: none\; font-kerning: none\;">Purchase a card at the Health Fair &amp\;</span><span class="a_GcMg font-feature-liga-off font-feature-clig-off font-feature-calt-off text-decoration-none text-strikethrough-none white-space-prewrap" style="--Ys-XuQ: none\; font-kerning: none\;"> </span></span></span><span style="font-size:16px\;"><span style="font-family:arial\;"><span class="a_GcMg font-feature-liga-off font-feature-clig-off font-feature-calt-off text-decoration-none text-strikethrough-none" style="--Ys-XuQ: none\; font-kerning: none\;">get 2 extra punches FREE!</span></span></span></p>\n\n<p data-end="898" data-start="789"><span style="font-size:14px\;"><span style="color:#0066cc\;"><strong><span style="font-size:20px\;"><span style="font-size:24px\;">Let&rsquo\;s make this your healthiest year yet!</span></span></strong></span></span><br />\n<strong data-end="852" data-start="789" style="font-size: 14px\;">Powered by the Kirkwood &ndash\; Des Peres Area Chamber of Commerce.</strong></p>\n
LOCATION:
UID:e.3624.2478
SEQUENCE:3
DTSTAMP:20260423T090543Z
URL:https://business.kirkwooddesperes.com/events/details/healthy-resolutions-health-fair-2478
END:VEVENT

END:VCALENDAR
