BEGIN:VCALENDAR
VERSION:2.0
PRODID:-//ChamberMaster//Event Calendar 2.0//EN
METHOD:PUBLISH
X-PUBLISHED-TTL:P3D
REFRESH-INTERVAL:P3D
CALSCALE:GREGORIAN
BEGIN:VEVENT
DTSTART:20250201T170000Z
DTEND:20250201T190000Z
X-MICROSOFT-CDO-ALLDAYEVENT:FALSE
SUMMARY:Hello Love: Join us for Beginner Yoga\, Smoothies\, and Connection
DESCRIPTION:FREE Event! 11am Beginners yoga class then after the 1 hour yoga class at 12pm everyone will head over to Hello Juice in Kirkwood for smoothies and connection!
X-ALT-DESC;FMTTYPE=text/html:FREE Event! 11am Beginners yoga class then after the 1 hour yoga class at 12pm everyone will head over to Hello Juice in Kirkwood for smoothies and connection!
LOCATION:Gateway Yoga Studio + Hello Juice
UID:e.3624.2142
SEQUENCE:3
DTSTAMP:20260422T115658Z
URL:https://business.kirkwooddesperes.com/events/details/hello-love-join-us-for-beginner-yoga-smoothies-and-connection-2142
END:VEVENT

END:VCALENDAR
