BEGIN:VCALENDAR
VERSION:2.0
PRODID:-//ChamberMaster//Event Calendar 2.0//EN
METHOD:PUBLISH
X-PUBLISHED-TTL:P3D
REFRESH-INTERVAL:P3D
CALSCALE:GREGORIAN
BEGIN:VEVENT
DTSTART:20250614T150000Z
DTEND:20250614T210000Z
X-MICROSOFT-CDO-ALLDAYEVENT:FALSE
SUMMARY:Historic Saint Louis House & Garden Tour at Mudd's Grove 6/14/2025
DESCRIPTION:https://kirkwoodhistoricalsociety.com/events/event/historic-saint-louis-house-garden-tour-at-mudds-grove/
X-ALT-DESC;FMTTYPE=text/html:<a href="https://kirkwoodhistoricalsociety.com/events/event/historic-saint-louis-house-garden-tour-at-mudds-grove/">https://kirkwoodhistoricalsociety.com/events/event/historic-saint-louis-house-garden-tour-at-mudds-grove/</a>
LOCATION:Mudd's Grove 302 West Argonne Drive Kirkwood MO 63122 Park on W. Argonne or S. Harrison
UID:e.3624.2355
SEQUENCE:3
DTSTAMP:20260422T192752Z
URL:https://business.kirkwooddesperes.com/events/details/historic-saint-louis-house-garden-tour-at-mudd-s-grove-6-14-2025-2355
END:VEVENT

END:VCALENDAR
