BEGIN:VCALENDAR
VERSION:2.0
PRODID:-//ChamberMaster//Event Calendar 2.0//EN
METHOD:PUBLISH
X-PUBLISHED-TTL:P3D
REFRESH-INTERVAL:P3D
CALSCALE:GREGORIAN
BEGIN:VEVENT
DTSTART:20250617T223000Z
DTEND:20250618T000000Z
X-MICROSOFT-CDO-ALLDAYEVENT:FALSE
SUMMARY:Kirkwood Historical Society 53rd Annual Strawberry Festival- Family Event
DESCRIPTION:Kirkwood Historical Society 53rd Annual Strawberry Festival- Family Event\n\nStrawberries\, Ice Cream\, Lemonade\n\n\n\nBring your picnic dinner.\n\n\n\nMusic
X-ALT-DESC;FMTTYPE=text/html:Kirkwood Historical Society 53rd Annual Strawberry Festival- Family Event<br />\nStrawberries\, Ice Cream\, Lemonade<br />\n<br />\nBring your picnic dinner.<br />\n<br />\nMusic
LOCATION:Mudd's Grove 302 West Argonne Drive Kirkwood MO 63122
UID:e.3624.2356
SEQUENCE:3
DTSTAMP:20260422T210450Z
URL:https://business.kirkwooddesperes.com/events/details/kirkwood-historical-society-53rd-annual-strawberry-festival-family-event-2356
END:VEVENT

END:VCALENDAR
