BEGIN:VCALENDAR
VERSION:2.0
PRODID:-//ChamberMaster//Event Calendar 2.0//EN
METHOD:PUBLISH
X-PUBLISHED-TTL:P3D
REFRESH-INTERVAL:P3D
CALSCALE:GREGORIAN
BEGIN:VEVENT
DTSTART:20251122T170000Z
DTEND:20251122T220000Z
X-MICROSOFT-CDO-ALLDAYEVENT:FALSE
SUMMARY:Permanent Personalizations - A LIVE ENGRAVING EVENT
DESCRIPTION:Bring your glass\, metal and stone gifts to THE VAULT Luxury Resale to have them personalized with hand engraving. Leah will be onsite from 11am - 4pm to hand engrave your gifts with a name\, word or initials. Custom personalizations while you shop! Visit the event link for a listing of acceptable good for live engraving and additional details.
X-ALT-DESC;FMTTYPE=text/html:Bring your glass\, metal and stone gifts to THE VAULT Luxury Resale to have them personalized with hand engraving. Leah will be onsite from 11am - 4pm to hand engrave your gifts with a name\, word or initials. Custom personalizations while you shop! Visit the event link for a listing of acceptable good for live engraving and additional details.
LOCATION:THE VAULT Luxury Resale 2325 S Brentwood Blvd Brentwood\, MO 63144
UID:e.3624.2480
SEQUENCE:3
DTSTAMP:20260423T035943Z
URL:https://business.kirkwooddesperes.com/events/details/permanent-personalizations-a-live-engraving-event-2480
END:VEVENT

END:VCALENDAR
