BEGIN:VCALENDAR
VERSION:2.0
PRODID:-//ChamberMaster//Event Calendar 2.0//EN
METHOD:PUBLISH
X-PUBLISHED-TTL:P3D
REFRESH-INTERVAL:P3D
CALSCALE:GREGORIAN
BEGIN:VEVENT
DTSTART:20250618T163000Z
DTEND:20250618T173000Z
X-MICROSOFT-CDO-ALLDAYEVENT:FALSE
SUMMARY:RIBBON CUTTING at The Only Facial
DESCRIPTION:You are cordially invited to attend the RIBBON CUTTING at The Only Facial.  Come celebrate with our friends and fellow Chamber members!  We'll see you there!
X-ALT-DESC;FMTTYPE=text/html:<p data-end="606" data-start="426"><span style="color: rgb(68\, 68\, 68)\; font-family: Poppins\; font-size: 16px\; font-weight: 700\;">You are cordially invited to attend the&nbsp\;</span><span style="font-family: Poppins\; font-size: 16px\; font-weight: 700\; box-sizing: border-box\; color: rgb(255\, 0\, 0)\;">RIBBON CUTTING</span><span style="color: rgb(68\, 68\, 68)\; font-family: Poppins\; font-size: 16px\; font-weight: 700\;">&nbsp\;at&nbsp\;The Only Facial.&nbsp\; Come celebrate with our friends and fellow Chamber members!&nbsp\; We&#39\;ll see you there!</span></p>\n
LOCATION:
UID:e.3624.2346
SEQUENCE:3
DTSTAMP:20260422T173908Z
URL:https://business.kirkwooddesperes.com/events/details/ribbon-cutting-at-the-only-facial-2346
END:VEVENT

END:VCALENDAR
