BEGIN:VCALENDAR
VERSION:2.0
PRODID:-//ChamberMaster//Event Calendar 2.0//EN
METHOD:PUBLISH
X-PUBLISHED-TTL:P3D
REFRESH-INTERVAL:P3D
CALSCALE:GREGORIAN
BEGIN:VEVENT
DTSTART:20250611T163000Z
DTEND:20250611T173000Z
X-MICROSOFT-CDO-ALLDAYEVENT:FALSE
SUMMARY:RIBBON CUTTING Taziki's Mediterranean Cafe
DESCRIPTION:Join Us for the Grand Opening Celebration of Taziki's Mediterranean Caf !\n\nBe part of the excitement as we cut the ribbon and officially welcome Taziki's to the community. Enjoy fresh Mediterranean flavors\, meet the team\, and celebrate with us!
X-ALT-DESC;FMTTYPE=text/html:<span style="font-size:16px\;"><span style="font-family:arial\;"><strong data-end="129" data-start="52">Join Us for the Grand Opening Celebration of Taziki&rsquo\;s Mediterranean Caf&eacute\;!</strong><br data-end="132" data-start="129" />\nBe part of the excitement as we cut the ribbon and officially welcome Taziki&rsquo\;s to the community. Enjoy fresh Mediterranean flavors\, meet the team\, and celebrate with us!</span></span>
LOCATION:1187 Colonnade Center\, Des Peres\, MO 63131
UID:e.3624.2357
SEQUENCE:3
DTSTAMP:20260422T192449Z
URL:https://business.kirkwooddesperes.com/events/details/ribbon-cutting-taziki-s-mediterranean-cafe-2357
END:VEVENT

END:VCALENDAR
