BEGIN:VCALENDAR
VERSION:2.0
PRODID:-//ChamberMaster//Event Calendar 2.0//EN
METHOD:PUBLISH
X-PUBLISHED-TTL:P3D
REFRESH-INTERVAL:P3D
CALSCALE:GREGORIAN
BEGIN:VEVENT
DTSTART:20251122T140000Z
DTEND:20251123T000000Z
X-MICROSOFT-CDO-ALLDAYEVENT:FALSE
SUMMARY:Step Into Savings Ahead of the Holidays: Sierra’s Kirkwood Grand Opening at Kirkwood Crossing
DESCRIPTION:Celebrate the grand opening of Sierra in Kirkwood! Enjoy Sierra-branded giveaways\, hidden tag activities and gift card raffles. Discover incredible savings on active and outside apparel\, footwear\, and gear for the whole family. Grand Opening Highlights: * ?? Sierra-branded giveaways and a hidden tag activity with chances to win Sierra gift cards * ?? A wide selection of active\, outside\, and lifestyle finds for adults\, kids\, and pets   all at 20 60% less* than department and specialty store prices Event Details: ??Sierra   Kirkwood Crossing\, 1229 S. Kirkwood Rd. Kirkwood\, MO ?? Saturday\, November 22\, 2025 ?? Doors open at 8:00 AM
X-ALT-DESC;FMTTYPE=text/html:Celebrate the grand opening of Sierra in Kirkwood! Enjoy Sierra-branded giveaways\, hidden tag activities and gift card raffles. Discover incredible savings on active and outside apparel\, footwear\, and gear for the whole family. Grand Opening Highlights: * ?? Sierra-branded giveaways and a hidden tag activity with&nbsp\;chances to win Sierra gift cards * ?? A wide selection of active\, outside\, and lifestyle finds for adults\, kids\, and pets &mdash\; all at 20&ndash\;60% less* than department and specialty store prices Event Details: ??Sierra &ndash\; Kirkwood Crossing\, 1229 S. Kirkwood Rd. Kirkwood\, MO ?? Saturday\, November 22\, 2025 ?? Doors open at 8:00 AM
LOCATION:1229 S. Kirkwood Rd. Kirkwood\, MO
UID:e.3624.2479
SEQUENCE:3
DTSTAMP:20260423T024232Z
URL:https://business.kirkwooddesperes.com/events/details/step-into-savings-ahead-of-the-holidays-sierra-s-kirkwood-grand-opening-at-kirkwood-crossing-2479
END:VEVENT

END:VCALENDAR
