BEGIN:VCALENDAR
VERSION:2.0
PRODID:-//ChamberMaster//Event Calendar 2.0//EN
METHOD:PUBLISH
X-PUBLISHED-TTL:P3D
REFRESH-INTERVAL:P3D
CALSCALE:GREGORIAN
BEGIN:VEVENT
DTSTART:20250503T220000Z
DTEND:20250504T030000Z
X-MICROSOFT-CDO-ALLDAYEVENT:FALSE
SUMMARY:The Mane Event: a Derby Bingo to Remember
DESCRIPTION:?? Bingo Night for Alzheimer's Awareness ?? An evening of fun\, friendly competition\, and fundraising! ?? $25 Admission Includes: ?? 8 rounds of Bingo ?? Entry into all the fun + a great cause ?? A chance to win awesome prizes! ?? Need more luck? ? Extra Bingo cards available at 2 for $5 ?? Dress to impress! Show up in costume or derby attire and get one extra card FREE! ?? 50/50 Horse Race Raffle: Think you can pick a winner? ??? Buy raffle tickets and "bet" on the horse you think will win ?? We'll draw one ticket from the winning horse's bucket and the winner takes home 50% of the cash pot! (Buy & drop in as many as you want   more entries = better odds!) ?? Bonus Fun: ?? Random trivia questions throughout the night for extra prizes ?? A break to watch The Derby together on the big screen ?? All proceeds benefit Alzheimer's research & awareness through Alzheimer's Association Greater Missouri Chapter. Let's raise money\, make memories\, and have a blast doing it!
X-ALT-DESC;FMTTYPE=text/html:?? Bingo Night for Alzheimer&rsquo\;s Awareness ?? An evening of fun\, friendly competition\, and fundraising! ?? $25 Admission Includes: ?? 8 rounds of Bingo ?? Entry into all the fun + a great cause ?? A chance to win awesome prizes! ?? Need more luck? ? Extra Bingo cards available at 2 for $5 ?? Dress to impress! Show up in costume or derby attire and get one extra card FREE! ?? 50/50 Horse Race Raffle: Think you can pick a winner? ??? Buy raffle tickets and &ldquo\;bet&rdquo\; on the horse you think will win ?? We&rsquo\;ll draw one ticket from the winning horse&rsquo\;s bucket and the winner takes home 50% of the cash pot! (Buy &amp\; drop in as many as you want &mdash\; more entries = better odds!) ?? Bonus Fun: ?? Random trivia questions throughout the night for extra prizes ?? A break to watch The Derby together on the big screen ?? All proceeds benefit Alzheimer&rsquo\;s research &amp\; awareness through Alzheimer&#39\;s Association Greater Missouri Chapter. Let&rsquo\;s raise money\, make memories\, and have a blast doing it!
LOCATION:Global Brew Tap House\, 9578 Manchester Rd\, St. Louis\, MO 63119
UID:e.3624.2345
SEQUENCE:3
DTSTAMP:20260422T160425Z
URL:https://business.kirkwooddesperes.com/events/details/the-mane-event-a-derby-bingo-to-remember-2345
END:VEVENT

END:VCALENDAR
