BEGIN:VCALENDAR
VERSION:2.0
PRODID:-//ChamberMaster//Event Calendar 2.0//EN
METHOD:PUBLISH
X-PUBLISHED-TTL:P3D
REFRESH-INTERVAL:P3D
CALSCALE:GREGORIAN
BEGIN:VEVENT
DTSTART:20260228T160000Z
DTEND:20260228T180000Z
X-MICROSOFT-CDO-ALLDAYEVENT:FALSE
SUMMARY:Tree of the Year with Kirkwood Mayor Gibbons
DESCRIPTION:Host: Mayor Liz Gibbons & the Kirkwood Urban Forestry Commission\n\nLocation: Kirkwood Performing Arts Center Event Space (Strauss)\n\nJoin Mayor Liz Gibbons for the annual Tree of the Year celebration\, a signature initiative dedicated to enhancing Kirkwood's historic urban forest. This community event highlights a featured native species selected for its resilience and ecological value to our local landscape.\n\nEvent Highlights:\n\n\n	\n	Mayor's Vision: Remarks from Mayor Gibbons on her "green vision" for maintaining Kirkwood's canopy.\n	\n	\n	Expert Keynote: Insights from leading arborists on sustainable planting and tree stewardship.\n	\n	\n	Community Resources: Educational tables hosted by the Kirkwood Urban Forestry Commission\, Missouri Department of Conservation\, and local volunteer groups.\n	\n\n\nCelebrate "The Greentree City" and learn how you can help grow a more vibrant\, sustainable Kirkwood for future generations.
X-ALT-DESC;FMTTYPE=text/html:<div>\n<div>\n<div>\n<div>\n<div>\n<div>\n<p><strong>Host:</strong> Mayor Liz Gibbons &amp\; the Kirkwood Urban Forestry Commission<br />\n<strong>Location:</strong> Kirkwood Performing Arts Center Event Space (Strauss)</p>\n\n<p>Join Mayor Liz Gibbons for the annual <strong>Tree of the Year</strong> celebration\, a signature initiative dedicated to enhancing Kirkwood&rsquo\;s historic urban forest. This community event highlights a featured native species selected for its resilience and ecological value to our local landscape.</p>\n\n<p><strong>Event Highlights:</strong></p>\n\n<ul>\n	<li>\n	<p><strong>Mayor&rsquo\;s Vision:</strong> Remarks from Mayor Gibbons on her &quot\;green vision&quot\; for maintaining Kirkwood&rsquo\;s canopy.</p>\n	</li>\n	<li>\n	<p><strong>Expert Keynote:</strong> Insights from leading arborists on sustainable planting and tree stewardship.</p>\n	</li>\n	<li>\n	<p><strong>Community Resources:</strong> Educational tables hosted by the <a href="https://www.kirkwoodmo.org/government/boards-and-commissions/urban-forestry-commission" target="_blank">Kirkwood Urban Forestry Commission</a>\, Missouri Department of Conservation\, and local volunteer groups.</p>\n	</li>\n</ul>\n\n<p>Celebrate &quot\;The Greentree City&quot\; and learn how you can help grow a more vibrant\, sustainable Kirkwood for future generations.</p>\n</div>\n</div>\n</div>\n</div>\n</div>\n</div>\n
LOCATION:Kirkwood Performing Arts Center 210 E Monroe Ave\, Kirkwood\, MO\, 63122 Strauss Theatre
UID:e.3624.2768
SEQUENCE:3
DTSTAMP:20260423T092321Z
URL:https://business.kirkwooddesperes.com/events/details/tree-of-the-year-with-kirkwood-mayor-gibbons-2768
END:VEVENT

END:VCALENDAR
