BEGIN:VCALENDAR
VERSION:2.0
PRODID:-//ChamberMaster//Event Calendar 2.0//EN
METHOD:PUBLISH
X-PUBLISHED-TTL:P3D
REFRESH-INTERVAL:P3D
CALSCALE:GREGORIAN
BEGIN:VEVENT
DTSTART:20260227T010000Z
DTEND:20260227T030000Z
X-MICROSOFT-CDO-ALLDAYEVENT:FALSE
SUMMARY:United States Air Force Band of Mid-America Shades of Blue: Live at the KPAC
DESCRIPTION:The Kirkwood Performing Arts Center is proud to host the United States Air Force Band of Mid-America for a special performance by their premier jazz ensemble\, Shades of Blue\, on Thursday\, February 26.\n\nThis world-class group of active-duty airmen musicians brings a professional\, high-energy program to the Ross Family Theatre. The evening will showcase a versatile repertoire\, ranging from the golden age of big band swing to contemporary jazz arrangements and soulful vocal hits. Known for their precision and musicality\, Shades of Blue honors our nation's heritage while delivering a modern concert experience for all ages.
X-ALT-DESC;FMTTYPE=text/html:<div>The Kirkwood Performing Arts Center is proud to host the <strong>United States Air Force Band of Mid-America</strong> for a special performance by their premier jazz ensemble\, <strong>Shades of Blue</strong>\, on <strong>Thursday\, February 26</strong>.</div>\n\n<div>This world-class group of active-duty airmen musicians brings a professional\, high-energy program to the Ross Family Theatre. The evening will showcase a versatile repertoire\, ranging from the golden age of big band swing to contemporary jazz arrangements and soulful vocal hits. Known for their precision and musicality\, Shades of Blue honors our nation&rsquo\;s heritage while delivering a modern concert experience for all ages.&nbsp\;</div>\n
LOCATION:Kirkwood Performing Arts Center 210 E Monroe Ave\, Kirkwood\, MO\, 63122 Ross Family Theatre
UID:e.3624.2766
SEQUENCE:3
DTSTAMP:20260423T091246Z
URL:https://business.kirkwooddesperes.com/events/details/united-states-air-force-band-of-mid-america-shades-of-blue-live-at-the-kpac-2766
END:VEVENT

END:VCALENDAR
