BEGIN:VCALENDAR
VERSION:2.0
PRODID:-//ChamberMaster//Event Calendar 2.0//EN
METHOD:PUBLISH
X-PUBLISHED-TTL:P3D
REFRESH-INTERVAL:P3D
CALSCALE:GREGORIAN
BEGIN:VEVENT
DTSTART:20260225T180000Z
DTEND:20260225T190000Z
X-MICROSOFT-CDO-ALLDAYEVENT:FALSE
SUMMARY:Virtual Startup Office Hours: Get Expert Advice for Your New Business
DESCRIPTION:Are you launching a startup or just getting your small business off the ground? Join us for Virtual Startup Office Hours\, where you'll have the opportunity to ask your burning questions and get expert guidance from a seasoned startup professional. This interactive Q&A session is designed for early-stage entrepreneurs looking for advice on topics like business strategy\, funding\, marketing\, operations\, and more. Whether you need help refining your business idea\, understanding the startup landscape\, or overcoming a specific challenge\, this is your chance to get real-time insights tailored to your needs. Registration Required in order to get the zoom link. This event takes place on the last Wednesday of every month.
X-ALT-DESC;FMTTYPE=text/html:Are you launching a startup or just getting your small business off the ground? Join us for Virtual Startup Office Hours\, where you&rsquo\;ll have the opportunity to ask your burning questions and get expert guidance from a seasoned startup professional. This interactive Q&amp\;A session is designed for early-stage entrepreneurs looking for advice on topics like business strategy\, funding\, marketing\, operations\, and more. Whether you need help refining your business idea\, understanding the startup landscape\, or overcoming a specific challenge\, this is your chance to get real-time insights tailored to your needs. Registration Required in order to get the zoom link. This event takes place on the last Wednesday of every month.
LOCATION:Virtual Only Event
UID:e.3624.2759
SEQUENCE:3
DTSTAMP:20260423T090950Z
URL:https://business.kirkwooddesperes.com/events/details/virtual-startup-office-hours-get-expert-advice-for-your-new-business-02-25-2026-2759
END:VEVENT

END:VCALENDAR
