BEGIN:VCALENDAR
VERSION:2.0
PRODID:-//ChamberMaster//Event Calendar 2.0//EN
METHOD:PUBLISH
X-PUBLISHED-TTL:P3D
REFRESH-INTERVAL:P3D
CALSCALE:GREGORIAN
BEGIN:VEVENT
DTSTART:20250528T170000Z
DTEND:20250528T180000Z
X-MICROSOFT-CDO-ALLDAYEVENT:FALSE
SUMMARY:Virtual Startup Office Hours: Get Expert Advice for Your New Business
DESCRIPTION:REGISTRATION REQUIRED FOR THE ZOOM LINK.\n\n\n\nAre you launching a startup or just getting your small business off the ground? Join us for Virtual Startup Office Hours\, where you'll have the opportunity to ask your burning questions and get expert guidance from a seasoned startup professional.\n\nThis interactive Q&A session is designed for early-stage entrepreneurs looking for advice on topics like business strategy\, funding\, marketing\, operations\, and more. Whether you need help refining your business idea\, understanding the startup landscape\, or overcoming a specific challenge\, this is your chance to get real-time insights tailored to your needs.
X-ALT-DESC;FMTTYPE=text/html:<p>REGISTRATION REQUIRED FOR THE ZOOM LINK.<br />\n<br />\nAre you launching a startup or just getting your small business off the ground? Join us for Virtual Startup Office Hours\, where you&rsquo\;ll have the opportunity to ask your burning questions and get expert guidance from a seasoned startup professional.</p>\n\n<p>This interactive Q&amp\;A session is designed for early-stage entrepreneurs looking for advice on topics like business strategy\, funding\, marketing\, operations\, and more. Whether you need help refining your business idea\, understanding the startup landscape\, or overcoming a specific challenge\, this is your chance to get real-time insights tailored to your needs.</p>\n
LOCATION:Zoom
UID:e.3624.2338
SEQUENCE:3
DTSTAMP:20260422T160847Z
URL:https://business.kirkwooddesperes.com/events/details/virtual-startup-office-hours-get-expert-advice-for-your-new-business-2338
END:VEVENT

END:VCALENDAR
